BEGIN:VCALENDAR
VERSION:2.0
PRODID:-//JazzPort-Friedrichshafen e. V. - ECPv6.15.20//NONSGML v1.0//EN
CALSCALE:GREGORIAN
METHOD:PUBLISH
X-WR-CALNAME:JazzPort-Friedrichshafen e. V.
X-ORIGINAL-URL:https://jazzport-fn.de
X-WR-CALDESC:Veranstaltungen für JazzPort-Friedrichshafen e. V.
REFRESH-INTERVAL;VALUE=DURATION:PT1H
X-Robots-Tag:noindex
X-PUBLISHED-TTL:PT1H
BEGIN:VTIMEZONE
TZID:UTC
BEGIN:STANDARD
TZOFFSETFROM:+0000
TZOFFSETTO:+0000
TZNAME:UTC
DTSTART:20240101T000000
END:STANDARD
END:VTIMEZONE
BEGIN:VEVENT
DTSTART;TZID=UTC:20250220T200000
DTEND;TZID=UTC:20250220T200000
DTSTAMP:20260421T090238
CREATED:20241227T211517Z
LAST-MODIFIED:20250222T125759Z
UID:428-1740081600-1740081600@jazzport-fn.de
SUMMARY:Lajos Meinberg Trio (D/ DK/ IT)
DESCRIPTION:Das Lajos Meinberg Trio ist ein aufstrebendes\, junges Ensemble aus Berlin. So international wie die Besetzung ist auch ihr Jazz\, Energie geladene und einfühlsame Interpretationen des Jazz-Repertoires sowie kreative Eigenkompositionen. \nLajos Meinberg\, der in einer Familie von Musikern entstammt ist\, studiert seit 2020 am Jazz-Institut Berlin und ist ein Aktivposten der jungen Berliner Jazzszene. Er ist mehrfacher Jugend Jazzt-Preisträger in der Combo- als auch der Solo-Wertung und gewann den 2. Preis beim Carl Bechstein Wettbewerb 2018 in der Kategorie Jazz-Klavier Solo sowie 2022 den Ingolf Burkhardt-Award. \nMorten Larsen aus Kolding (Dänemark) war 2016-19 als freier Musiker in der Kopenhagener Jazzszene aktiv\, bevor er sein Studium am Jazz-Institut Berlin aufnahm. \nUgo Alunni aus Perugia (Italien) studierte am dortigen Conservatorio di Musica „Francesco Morlacchi“ und an der Collective School of Music in New York\, bevor er 2010 nach Berlin zog und dort ein Master-Studium am Jazz-Institut aufnahm. Er spielte u.a. mit Musikern wie Rossano Emili\, dem Perugia Jazz Orchestra\, Joe Chambers\, Elias Stemeseder und Marcin Masecki. \nDas sagen andere:\n„Das Lajos Meinberg Trio ist eine aufstrebende Formation aus der jungen Jazzszene in Berlin. Es steht für moderne kreative Musik\, wobei „modern“ immer als frisch und neugierig\, niemals als Verbot von Tradition definiert wird. Der eigene musikalische Ausdruck wird gleichermaßen bei Eigenkompositionen als auch bei der Interpretation anderer unterschiedlichster Musik gesucht.“\n– Schumannfest Bonn \n \nLine Up:\nLajos Meinberg – Klavier\nMorten Larsen – Kontrabassist\nUgo Alunni – Schlagzeug
URL:https://jazzport-fn.de/event/lajos-meinberg-trio-d-dk-it/
LOCATION:Theater Atrium @Kulturhaus Caserne\, Fallenbrunnen 17\, Friedrichshafen\, Baden Württemberg\, 88045\, Germany
CATEGORIES:Jazz am Donnerstag
END:VEVENT
END:VCALENDAR