BEGIN:VCALENDAR
VERSION:2.0
PRODID:-//JazzPort-Friedrichshafen e. V. - ECPv6.15.20//NONSGML v1.0//EN
CALSCALE:GREGORIAN
METHOD:PUBLISH
X-ORIGINAL-URL:https://jazzport-fn.de
X-WR-CALDESC:Veranstaltungen für JazzPort-Friedrichshafen e. V.
REFRESH-INTERVAL;VALUE=DURATION:PT1H
X-Robots-Tag:noindex
X-PUBLISHED-TTL:PT1H
BEGIN:VTIMEZONE
TZID:UTC
BEGIN:STANDARD
TZOFFSETFROM:+0000
TZOFFSETTO:+0000
TZNAME:UTC
DTSTART:20240101T000000
END:STANDARD
END:VTIMEZONE
BEGIN:VEVENT
DTSTART;TZID=UTC:20250227T200000
DTEND;TZID=UTC:20250227T223000
DTSTAMP:20260420T023834
CREATED:20250209T154320Z
LAST-MODIFIED:20250227T144414Z
UID:799-1740686400-1740695400@jazzport-fn.de
SUMMARY:The Hawks Triad (CH/ ARG)
DESCRIPTION:Americana total\, The Hawks Triad navigiert mit einer wilden Mischung durch Jazz\, Blues\, Country\, Surf-Rock\, Indie und afrikanische Rhythmen. \nIm Februar 2022 erschien das Album Dorcol Tapes mit Kompositionen\, die zwischen Belgrad\, Serbien und Winterthur aufgenommen wurden. Auf einer darauffolgenden Sommertournee durch die Schweiz entstand das zweite Album Carnivale \, das beim  renommierten Label UNIT Records erschien. \nLuciano Ponzano spielte in Argentinien als klassischer Konzertsolist\, in Tango-Orchestern und Bands wie Lattenzia und The Funky Dealers Orchestra\, in der Hip-Hop-Band MC KOKO\, bei Big Selecta und beim Elektronik-Künstler Fer Mercadal. Seit 2018 tourt er durch Europa\, solo und u.a. mit dem Folk-/ Country-Sänger Nick Lazzarini und der kroatischen Jazz-Manouche-Band The Astro Cats. \nGregory Schärer bringt seinen Ideenreichtum und seine Kreativität neben dieser Band in der afrikanischen Musikgruppe Siselabonga ein. \nAdrian Böckli\, Gründungsmitglied der Hardrock-Band Jack Slammer und der Balkanmusik-Band Sebass\, spielt dazu Schlagzeug in der lateinamerikanischen Folklore-Jazzband Paykuna und dem Tome Iliev Sextet\, das Jazz mit Balkanmusik verbindet. \n \nLine Up:\nLuciano Ponzano – Gitarren\, Wurlitzer Orgel\nGregory Schärer – Bassgitarre\nAdrian Böckli – Schlagzeug\, Percussion
URL:https://jazzport-fn.de/event/the-hawks-triad-ch-arg/
LOCATION:Werkstatt @Kulturhaus Caserne\, Fallenbrunnen 17\, Friedrichshafen\, Baden Württemberg\, 88045\, Germany
CATEGORIES:Jazz am Donnerstag
ORGANIZER;CN="JazzPort Friedrichshafen e. V.":MAILTO:mail@jazzport-fn.de
END:VEVENT
END:VCALENDAR