BEGIN:VCALENDAR
VERSION:2.0
PRODID:-//JazzPort-Friedrichshafen e. V. - ECPv6.15.20//NONSGML v1.0//EN
CALSCALE:GREGORIAN
METHOD:PUBLISH
X-ORIGINAL-URL:https://jazzport-fn.de
X-WR-CALDESC:Veranstaltungen für JazzPort-Friedrichshafen e. V.
REFRESH-INTERVAL;VALUE=DURATION:PT1H
X-Robots-Tag:noindex
X-PUBLISHED-TTL:PT1H
BEGIN:VTIMEZONE
TZID:UTC
BEGIN:STANDARD
TZOFFSETFROM:+0000
TZOFFSETTO:+0000
TZNAME:UTC
DTSTART:20240101T000000
END:STANDARD
END:VTIMEZONE
BEGIN:VEVENT
DTSTART;TZID=UTC:20250619T200000
DTEND;TZID=UTC:20250619T223000
DTSTAMP:20260424T093113
CREATED:20250215T153325Z
LAST-MODIFIED:20250407T131103Z
UID:832-1750363200-1750372200@jazzport-fn.de
SUMMARY:Lucia Schiller Trio
DESCRIPTION:Zwischen Mal Waldron und Aleksander Skrjabin \nDas Trio ist geprägt von der Affinität Lucia Schillers zur Musik von Mal Waldron\, Paul Bley\nund Lennie Tristano\,zu Tiefe\, Rauheit und Dringlichkeit. \nDie Klangsprache und melodischen Motive zeigen aber auch eine Verbundenheit zu klassischen Komponisten wie Maurice Ravel\, Aleksander Skrjabin und Béla Bartók. Die Freude am Musizieren aber steht im Vordergrund\, die Stücke als Sprungbrett gemeinsame Improvisationen zu nutzen. \nDie drei Musiker kennen sich seit ihrem Jazzstudium in Dresden und sind verbunden\ndurch ihre Leidenschaft für traditionellen Jazz und Blues. In Demut vor den Wurzeln dieser\nMusik suchen sie Wege\, in ihrer eigenen Sprache und Form eine lebendige Musik und\nInteraktion entstehen zu lassen. \n  \nLine Up:\nLucia Schiller – Klavier\nVincent Niessen – Kontrabass\nPat Schiller-Beutler – Schlagzeug
URL:https://jazzport-fn.de/event/lucia-schiller-trio-bw-b/
LOCATION:Werkstatt @Kulturhaus Caserne\, Fallenbrunnen 17\, Friedrichshafen\, Baden Württemberg\, 88045\, Germany
CATEGORIES:Jazz am Donnerstag
ATTACH;FMTTYPE=image/jpeg:https://jazzport-fn.de/wp-content/uploads/2025/02/25-6-19_LuciaSchillerTrio_4c_2-scaled.jpg
ORGANIZER;CN="JazzPort Friedrichshafen e. V.":MAILTO:mail@jazzport-fn.de
END:VEVENT
END:VCALENDAR