BEGIN:VCALENDAR
VERSION:2.0
PRODID:-//JazzPort-Friedrichshafen e. V. - ECPv6.15.20//NONSGML v1.0//EN
CALSCALE:GREGORIAN
METHOD:PUBLISH
X-WR-CALNAME:JazzPort-Friedrichshafen e. V.
X-ORIGINAL-URL:https://jazzport-fn.de
X-WR-CALDESC:Veranstaltungen für JazzPort-Friedrichshafen e. V.
REFRESH-INTERVAL;VALUE=DURATION:PT1H
X-Robots-Tag:noindex
X-PUBLISHED-TTL:PT1H
BEGIN:VTIMEZONE
TZID:UTC
BEGIN:STANDARD
TZOFFSETFROM:+0000
TZOFFSETTO:+0000
TZNAME:UTC
DTSTART:20240101T000000
END:STANDARD
END:VTIMEZONE
BEGIN:VEVENT
DTSTART;TZID=UTC:20251016T200000
DTEND;TZID=UTC:20251016T220000
DTSTAMP:20260421T035800
CREATED:20250619T135620Z
LAST-MODIFIED:20250828T131903Z
UID:2110-1760644800-1760652000@jazzport-fn.de
SUMMARY:Mareille Merck Larus
DESCRIPTION:Das Gitarrentrio fürs 21. Jahrhundert!\nMareille Merck wurde 1996 in Stralsund geboren und lebt in Zürich. Sie studierte Jazz-Gitarre in Weimar\, Luzern und Zürich u.a. bei Lionel Loueke\, Wolfgang Muthspiel\, Frank Möbus\, Kalle Kalima und Roberto Bossard. Als Sidewoman stand die Gitarristin mit Größen wie John McLaughlin oder Snarky Puppy-Mitgründer Michael League auf der Bühne. Dazu ist sie Dozentin an der Jazzabteilung der Hochschule Luzern für Jazzgitarre.\nIm Trio LARUS (Möwe) mit Louise Knobil (Kontrabass) und Samir Böhringer (Schlagzeug) verwebt die Gitarristin Fingerstyle-Techniken und Rockiges mit Jazz\, mal versponnen\, mal groovig. LARUS wurde 2021 für den ZKB Jazzpreis nominiert\, zur Suisse Diagonales Jazz Tour eingeladen und veröffentlichte im gleichen Jahr das Debütalbum „Fadenschlag“ bei Mons Records. Zwei Jahre später folgte mit „Stille Wasser“ das zweite Studioalbum\, wieder eine Koproduktion mit SRF 2 Kultur. \nWas andere sagen:\n„Stille Wasser“ ist ein Ereignis!\n– nzz\nMareille Merck ist eine Meisterin des Flageoletts und kreiert eingängige Themen\, die man schon beim zweiten Anhören begrüsst wie alte Freunde.\n– Samuel Mumenthaler\, Berner Zeitung 23.02.21 “Moderner Jazz\, der immer bereit ist\, in rockige Gefilde aufzubrechen. Dabei ist Mercks Stil von einer manchmal nicht zu fassenden Virtuosität geprägt\, sie hat aber auch Sinn für eine ruhige Dramaturgie\, bei der sie ihre Stratocaster singen lässt\, behutsam Feedback\neinsetzt und sich in ein Zwiegespräch mit ihrem Bassisten begibt.\n– F.A.Z. 13.03.2023 \nLine Up:\nMareille Merck: g\nLouise Knobil: b\nSamir Böhringer: dr
URL:https://jazzport-fn.de/event/mareille-merck-larus-ch/
LOCATION:Werkstatt @Kulturhaus Caserne\, Fallenbrunnen 17\, Friedrichshafen\, Baden Württemberg\, 88045\, Germany
CATEGORIES:Jazz am Donnerstag
ATTACH;FMTTYPE=image/jpeg:https://jazzport-fn.de/wp-content/uploads/2025/06/25-10-16_Mareille-Merck_sw_by_Markus-Meier-Kopie-scaled.jpg
ORGANIZER;CN="JazzPort Friedrichshafen e. V.":MAILTO:mail@jazzport-fn.de
END:VEVENT
END:VCALENDAR