BEGIN:VCALENDAR
VERSION:2.0
PRODID:-//JazzPort-Friedrichshafen e. V. - ECPv6.15.20//NONSGML v1.0//EN
CALSCALE:GREGORIAN
METHOD:PUBLISH
X-WR-CALNAME:JazzPort-Friedrichshafen e. V.
X-ORIGINAL-URL:https://jazzport-fn.de
X-WR-CALDESC:Veranstaltungen für JazzPort-Friedrichshafen e. V.
REFRESH-INTERVAL;VALUE=DURATION:PT1H
X-Robots-Tag:noindex
X-PUBLISHED-TTL:PT1H
BEGIN:VTIMEZONE
TZID:UTC
BEGIN:STANDARD
TZOFFSETFROM:+0000
TZOFFSETTO:+0000
TZNAME:UTC
DTSTART:20250101T000000
END:STANDARD
END:VTIMEZONE
BEGIN:VEVENT
DTSTART;TZID=UTC:20260704T193000
DTEND;TZID=UTC:20260704T230000
DTSTAMP:20260424T172003
CREATED:20260222T131944Z
LAST-MODIFIED:20260223T175400Z
UID:2650-1783193400-1783206000@jazzport-fn.de
SUMMARY:Summer Special 2026 - NJPO meets Thorsten Skringer
DESCRIPTION:Big Band Sound am See: NJPO meets Thorsten Skringer \nAm Samstag\, den 4. Juli 2026\, verwandelt sich das Graf-Zeppelin-Haus in Friedrichshafen in ein Mekka für Jazz- und Funk-Liebhaber. Das renommierte New JazzPort Orchestra (NJPO) lädt zu einem besonderen musikalischen Gipfeltreffen ein: Als Stargast des Abends wird der Saxophon-Virtuose Thorsten Skringer gemeinsam mit der Big Band auf der Bühne stehen. \nEin Abend voller Energie und Groove \nThorsten Skringer\, bekannt durch die „Heavytones“ (TV Total) und als einer der prägendsten Saxophonisten der deutschen Soul- und Popszene\, bringt seinen unverwechselbaren\, druckvollen Sound nach Friedrichshafen. In Kombination mit der Spielfreude und der klanglichen Wucht des New JazzPort Orchestra erwartet das Publikum ein Programm\, das von hochmodernen Big-Band-Arrangements bis hin zu funkigen Soli reicht. \nDas NJPO\, das seit Jahren ein fester Bestandteil der regionalen Kulturszene ist\, setzt mit dieser Kooperation seine Tradition fort\, Weltklasse-Solisten an den Bodensee zu holen. \nErleben Sie die geballte Energie von 18 Musikern und einem Ausnahmesolisten direkt am Ufer des Bodensees. \n—— \nTickets: \nVVK 21/17 € zzgl. Gebühr\nAK 30/25 € \n \n 
URL:https://jazzport-fn.de/event/summer-special-2026-njpo-meets-thorsten-skringer/
LOCATION:Graf-Zeppelin-Haus Ludwig-Dürr-Saal\, Olgastr. 20\, Friedrichshafen\, Baden Württemberg\, 88045\, Germany
CATEGORIES:Jazz am Samstag
ATTACH;FMTTYPE=image/jpeg:https://jazzport-fn.de/wp-content/uploads/2026/02/NJPO-Summerspecial2026.jpg
ORGANIZER;CN="JazzPort Friedrichshafen e. V.":MAILTO:mail@jazzport-fn.de
END:VEVENT
END:VCALENDAR