BEGIN:VCALENDAR
VERSION:2.0
PRODID:-//JazzPort-Friedrichshafen e. V. - ECPv6.15.20//NONSGML v1.0//EN
CALSCALE:GREGORIAN
METHOD:PUBLISH
X-WR-CALNAME:JazzPort-Friedrichshafen e. V.
X-ORIGINAL-URL:https://jazzport-fn.de
X-WR-CALDESC:Veranstaltungen für JazzPort-Friedrichshafen e. V.
REFRESH-INTERVAL;VALUE=DURATION:PT1H
X-Robots-Tag:noindex
X-PUBLISHED-TTL:PT1H
BEGIN:VTIMEZONE
TZID:UTC
BEGIN:STANDARD
TZOFFSETFROM:+0000
TZOFFSETTO:+0000
TZNAME:UTC
DTSTART:20250101T000000
END:STANDARD
END:VTIMEZONE
BEGIN:VEVENT
DTSTART;TZID=UTC:20260618T200000
DTEND;TZID=UTC:20260618T220000
DTSTAMP:20260424T154616
CREATED:20260210T165444Z
LAST-MODIFIED:20260313T155718Z
UID:2623-1781812800-1781820000@jazzport-fn.de
SUMMARY:MXMDCN: Meixner\, Mudrack\, Neuhaus
DESCRIPTION:Groove\, Jazz und Soul \nDer Club vibriert nicht nur\, weil hinter der Orgel die Lesliebox lauert\, hier trifft eine echte „Band of Brothers“ stilvoll und emotionsgeladen ins Herz. \nSchmatzende Orgeltasten\, bebende Drums und dampfende Saiten gleiten durch eine virtuose Welt aus Jazz und Soul\, wenn drei herausragende Musiker zur kollektiven Mission ansetzen: Spread the music & feel the vibe! Der Groove ist der Stoff\, der das Trio geschickt durch die geschichtsträchtige Orgel-Trio Formation schiebt. \nChristoph Neuhaus ist Jazzpreisträger Baden-Württemberg 2021\, als Künstler kreativ und interaktiv\, als Musiker versiert live und im Studio für die Crème de la Crème des Jazz unterwegs\, von der SWR Bigband über Fola Dada bis zu Ack van Royen und Peter Herbolzheimer\, einer der der Kunst rhythmisch auf die Beine hilft. \nMartin Meixner erweiterte die einstige „Schweineorgel“ um eine reiche Klangpalette aus Effektgeräten\, Sequenzern und Loops\, das faucht und wimmert\, grummelt und blubbert\, macht schöne Augen und gibt gleichzeitig auf’s Ohr. \nDaniel Mudrack schließlich spielt\, was er fühlt und gibt\, was er hört\, ein vielseitiger Drummer\, der Genre-übergreifend Strukturen\, Formen und Klänge vermischt. Mudrack lebte in Los Angeles und New York\, bevor er sein Studio „Schallraum“ eröffnete und nunmehr auch als Produzent andere ins rechte Klanglicht holt. \nAlle drei Musiker gehören zum Besten\, was der Jazz in Südwest und darüber hinaus zu „beaten“ hat. \nLine Up: \nChristoph Neuhaus: Gitarre \nMartin Meixner: Orgel \nDaniel Mudrack: Schlagzeug
URL:https://jazzport-fn.de/event/mxmdcn-meixner-mudrack-neuhaus/
LOCATION:Werkstatt @Kulturhaus Caserne\, Fallenbrunnen 17\, Friedrichshafen\, Baden Württemberg\, 88045\, Germany
CATEGORIES:Jazz am Donnerstag
ATTACH;FMTTYPE=image/jpeg:https://jazzport-fn.de/wp-content/uploads/2026/02/26-6-18_MXMDCN_Collage.jpg
ORGANIZER;CN="JazzPort Friedrichshafen e. V.":MAILTO:mail@jazzport-fn.de
END:VEVENT
END:VCALENDAR