BEGIN:VCALENDAR
VERSION:2.0
PRODID:-//JazzPort-Friedrichshafen e. V. - ECPv6.15.20//NONSGML v1.0//EN
CALSCALE:GREGORIAN
METHOD:PUBLISH
X-WR-CALNAME:JazzPort-Friedrichshafen e. V.
X-ORIGINAL-URL:https://jazzport-fn.de
X-WR-CALDESC:Veranstaltungen für JazzPort-Friedrichshafen e. V.
REFRESH-INTERVAL;VALUE=DURATION:PT1H
X-Robots-Tag:noindex
X-PUBLISHED-TTL:PT1H
BEGIN:VTIMEZONE
TZID:UTC
BEGIN:STANDARD
TZOFFSETFROM:+0000
TZOFFSETTO:+0000
TZNAME:UTC
DTSTART:20250101T000000
END:STANDARD
END:VTIMEZONE
BEGIN:VEVENT
DTSTART;TZID=UTC:20260507T200000
DTEND;TZID=UTC:20260507T200000
DTSTAMP:20260421T230545
CREATED:20250703T195121Z
LAST-MODIFIED:20251022T202440Z
UID:2223-1778184000-1778184000@jazzport-fn.de
SUMMARY:Lisa Wilhelm Quartett
DESCRIPTION:Mit dem feinen Sinn der Schlagzeugkunst \n„Unsere Musik richtet sich nicht nur an ein jazzaffines Publikum\, sondern wir wollen möglichst vielen Menschen ein Erlebnis bieten\, das in positiver Erinnerung bleibt.“ \nDas Zaubermittel dieser schwäbischen Kreativ-Kehrwoche aus Besen\, Becken\, Bass and Drum? Gestalten\, statt verwalten! \nNoch ist der Stuttgarter Wilhelmplatz\, in dessen Nähe sie wohnt\, nicht nach ihr benannt. Kann aber nicht mehr lange dauern\, so wie‘s mit Lisa Wilhelm gerade vorangeht: Solistenpreis beim Jungen Deutschen Jazzpreis 2022\, ihr Debütalbum Potpourri war 2023 Album der Woche beim NDR\, mit ihrem Quartett hat sie 2021 in der „Jazz Academy“ in der Elbphilharmonie gespielt und macht sich nach Hamburg gerade daran Berlin zu erobern. Die Mittzwanzigerin ist längst mehr Komponistin und „Musikermöglicherin“ als Time Keeper oder Rhythmusknecht. Ihre Musik breitet ein Gespinst an Klängen und Melodien aus\, unaufdringlich\, aber höchst einfühlsam\, ihr Schlagzeugspiel erzählt unter und hinter den Solisten stets eine zweite Geschichte. \nMit Moritz Langmaier\, Klavier\, Lukas Wögler\, Tenorsaxophon\, und Franz Blumenthal am Kontrabass\, hat die Stuttgarterin eine feine Band um sich\, die perfekt einen lyrisch melodiebetonten Jazz umsetzen\, der jedem /und jeder) viel Raum für die eigene Klangsprache lässt. \nWas andere schreiben:\n„…eines der besten Jazzalben des Jahres 2023“\n– Odilo Clausnitzer (WDR) über POTPOURRI\n„ganz großes Kino“\n– Ralf Dorschel\, NDR Kultur \n  \nLine Up:\nLukas Wögler: Tensorsaxophon\nMoritz Langmaier: Klavier\nFranz Blumenthal: Kontrabass\nLisa Wilhelm: Schlagzeug\, Komposition
URL:https://jazzport-fn.de/event/lisa-wilhelm-quartett/
LOCATION:Werkstatt @Kulturhaus Caserne\, Fallenbrunnen 17\, Friedrichshafen\, Baden Württemberg\, 88045\, Germany
CATEGORIES:Jazz am Donnerstag
ATTACH;FMTTYPE=image/jpeg:https://jazzport-fn.de/wp-content/uploads/2025/07/26-5-7_Lisa-Wilhelm-scaled.jpg
END:VEVENT
BEGIN:VEVENT
DTSTART;TZID=UTC:20260514T200000
DTEND;TZID=UTC:20260514T220000
DTSTAMP:20260421T230545
CREATED:20251022T202933Z
LAST-MODIFIED:20260111T220414Z
UID:2441-1778788800-1778796000@jazzport-fn.de
SUMMARY:See Sisters (and Brothers)
DESCRIPTION:Easy swingt der Bodensee \nTHE SEE SISTERS AND BROTHERS entführen in die legendäre Ära des Swing und versetzen mit ihrem closed harmony-Satzgesang à-la Berry Sisters oder Andrew Sisters in die Zeit der der 1930er- und 1940er-Jahre. Mit Eleganz\, Witz und einer ordentlichen Prise Beschwingheit entführen die Mädels und Jungs ihr Publikum in die rauchigen Keller der ersten Jazzkneipen und auf die großen Bühnen des Hollywoodglamours und bezaubern mehrstimmig mit Vintage und Gipsy Jazz. \nWas andere schreiben: \n„Jede der drei Frauenstimmen ist in hohem Maße Solo-bewährt – und fügt sich doch mit den anderen zu perfekten Harmonien im Stil der Andrew-Sisters. …Wohldosierte Soli der „Brüder“\, kecke Ansagen und eine stil-echte Choreografie perfektionieren den Auftritt der putzmunteren „Girl Group“. \n– Schwäbische Zeitung\, 15.10.18 \n  \nLine Up: \nJanine Firges\, Siggi Juhas und Dagmar Egger: Gesang \nLothar Binder: Gitarre \nJean-Pierre Dix: Kontrabass \n \n \n 
URL:https://jazzport-fn.de/event/see-sisters-and-brothers/
LOCATION:Werkstatt @Kulturhaus Caserne\, Fallenbrunnen 17\, Friedrichshafen\, Baden Württemberg\, 88045\, Germany
CATEGORIES:Jazz am Donnerstag
ATTACH;FMTTYPE=image/jpeg:https://jazzport-fn.de/wp-content/uploads/2025/10/26-5-14_Sea-Sisters.jpg
ORGANIZER;CN="JazzPort Friedrichshafen e. V.":MAILTO:mail@jazzport-fn.de
END:VEVENT
BEGIN:VEVENT
DTSTART;TZID=UTC:20260521T200000
DTEND;TZID=UTC:20260521T220000
DTSTAMP:20260421T230545
CREATED:20251022T203339Z
LAST-MODIFIED:20260112T203119Z
UID:2443-1779393600-1779400800@jazzport-fn.de
SUMMARY:Gisela Horat Trio
DESCRIPTION:Klaviertrio episch und mit allen Sounds gewaschen \nDas Gisela Horat Trio besteht seit Frühling 2009\, seit Mai 2015 in der unveränderten Besetzung von spielen Schlagzeuger Samuel Büttiker und Bassist Simon Iten. Da hat man Zeit\, Ideen und Melodien zu entwickeln. Das Trio erzählt in seinem Programm musikalische Geschichten\, die das Leben in all seinen Schattierungen schreibt. Ausgehend von musikalischen Skizzen und komponierten Liedern der Pianistin entstehen spannende Begegnungen zwischen Komposition und Improvisation\, die geprägt sind durch die unterschiedlichen Erfahrungs-Welten der einzelnen Musiker. Mit klangmalerisch jazzigen Harmonien beschreiben sie in lyrisch-grooviger Weise Ereignisse\, Träume und Schicksale. Das Trio hat inzwischen seine fünfte CD veröffentlicht. \nWas andere schreiben:\n„Gisela Horat gelassen fliessende Melodien von subtiler Schönheit\, unaufgeregt kontrastiert mit neutönerischen Techniken wie flirrend angerissenen Klangkaskaden im Saitenkasten und immensen Spannungsbögen … Danach ist man gewiss: Gisela Horat ist nach Irène Schweizer die imposanteste helvetische Tastenkünstlerin – eine sensationelle Entdeckung.“\n– Sven Thielmann\, Fono Forum 2/2024 \n„Wie aus einem Nukelus… ein Song wird\, diesen ganzen Entwicklungsprozess aus lauter sachten Bewegungen\, aus einem fortwährenden Abwägen und nie forsch vorgetragener Aktion und Reaktion\, macht das Gisela Horat Trio auf schöne Weise transparent.“\n– Jazzpodium 8-9/2025: Susanne Müller \nLine Up:\nGisela Horat: Klavier\nSimon Iten: Kontrabass\nSamuel Büttiker: Schlagzeug \nhttps://gisela-horat.ch/index.php/de/gisela-horat-trio-de \nKanton Zürich Fachstelle Kultur\nPro Helvetia\, Schweizer Kulturstiftung 
URL:https://jazzport-fn.de/event/gisela-horat-trio/
LOCATION:Werkstatt @Kulturhaus Caserne\, Fallenbrunnen 17\, Friedrichshafen\, Baden Württemberg\, 88045\, Germany
CATEGORIES:Jazz am Donnerstag
ATTACH;FMTTYPE=image/png:https://jazzport-fn.de/wp-content/uploads/2025/10/20260521_GiselaHorat.png
ORGANIZER;CN="JazzPort Friedrichshafen e. V.":MAILTO:mail@jazzport-fn.de
END:VEVENT
BEGIN:VEVENT
DTSTART;TZID=UTC:20260522T190000
DTEND;TZID=UTC:20260522T230000
DTSTAMP:20260421T230545
CREATED:20260215T174750Z
LAST-MODIFIED:20260215T174949Z
UID:2642-1779476400-1779490800@jazzport-fn.de
SUMMARY:New JazzPort Orchestra – Gordon Goodwin
DESCRIPTION:Ready for the Big Phat Sound?\nWenn das New JazzPort Orchestra FN am 22. Mai die Bühne des Casinos betritt\, bleibt im Saal kein Fuß still stehen! Wir widmen diesen Abend einem der größten Arrangeure unserer Zeit:\nGordon Goodwin\, der im Dezember verstorben ist. \nErleben Sie die geballte Energie von 18 Musikern\, die Goodwins komplexe und hochmoderne Kompositionen zum Leben erwecken. \nVon fulminantem Jazz-Rock bis hin zu virtuosem Swing – dieses Tribute-Konzert feiert den unverwechselbaren Sound\, der die Big-Band-Welt revolutioniert hat. \nKommen Sie vorbei und lassen Sie sich von der Spielfreude des New JazzPort Orchestra anstecken – Wir freuen uns auf einen unvergesslichen Abend im Fallenbrunnen! \n \nEinlass: 19:00 Uhr\, Beginn: 20:00 Uhr \nVVK reg. : 20\,50 € \nVVK ermäßigt*:  14\,50 € \n*für Schüler\, Studenten\, Mitgl. JazzPort FN e.V. und Freundeskreis Kulturhaus Caserne gGmbH
URL:https://jazzport-fn.de/event/new-jazzport-orchestra-gordon-goodwin/
LOCATION:Casino Fallenbrunnen @Kulturhaus Caserne\, Fallenbrunnen 17\, Friedrichshafen\, Baden Württemberg\, 88045\, Germany
CATEGORIES:New JazzPort Orchestra,Special Concert
ATTACH;FMTTYPE=image/jpeg:https://jazzport-fn.de/wp-content/uploads/2025/07/NJPO_G757332.jpg
ORGANIZER;CN="JazzPort FN e.V. + Kulturhaus Caserne gGmbH":MAILTO:b.eiberger@kulturhaus-caserne.de
END:VEVENT
BEGIN:VEVENT
DTSTART;TZID=UTC:20260528T200000
DTEND;TZID=UTC:20260528T200000
DTSTAMP:20260421T230545
CREATED:20250703T195149Z
LAST-MODIFIED:20260210T170919Z
UID:2226-1779998400-1779998400@jazzport-fn.de
SUMMARY:Appaloosa
DESCRIPTION:Bubblegum Jazz aus Berlin \nAppaloosa rhythmisiert den Weg des Jazz zur Globalmusik. Das Berliner Trio um die Saxofonistin und Komponistin Sandrine Ramamonjisoa bringt dabei so einiges in Einklang\, was früher ein Mehrklang gewesen wäre. \n2020 gegründet\, spielt Appaloosa eigensinnige Eigenkompositionen\, die stilistisch im Creative Jazz mit vielfältigen Einflüssen aus Hip-Hop\, Trap\, traditioneller madagassischer Musik und Lee Konitz-Konzepten schillern. Mit diesem Mix belegte das Trio den ersten Platz beim internationalen Next Generation Women in Jazz-Wettbewerb und brachte im Herbst 2024 ihr Debütalbum „4PS“ heraus. \nWas andere schreiben: \n„Mit herzergreifenden\, elegischen Melodien\, aufbrausenden Rhythmen und experimentierfreudigem Spiel verkörpert die Band die Kompositionen ihrer Saxophonistin Sandrine Ramamonjisoa. In diesen verarbeitet sie Einflüsse aus zeitgenössischem Jazz\, Hip-Hop und Weltmusik und unternimmt ebenso Abstecher in Drum n Bass\, Neue Musik oder andere aktuelle Strömungen.“ \n— Women in Jazz Festival \nLine Up: \nSandrine Ramamonjisoa: Saxophon\, Komposition \nPaul Laga: Vibraphon \nNikolas Sieß: Schlagzeug
URL:https://jazzport-fn.de/event/appaloosa-madagaskar-berlin/
LOCATION:Werkstatt @Kulturhaus Caserne\, Fallenbrunnen 17\, Friedrichshafen\, Baden Württemberg\, 88045\, Germany
CATEGORIES:Jazz am Donnerstag
ATTACH;FMTTYPE=image/jpeg:https://jazzport-fn.de/wp-content/uploads/2025/07/Appaloosa_Collage-Caserne-1.jpg
ORGANIZER;CN="JazzPort Friedrichshafen e. V.":MAILTO:mail@jazzport-fn.de
END:VEVENT
END:VCALENDAR