BEGIN:VCALENDAR
VERSION:2.0
PRODID:-//JazzPort-Friedrichshafen e. V. - ECPv6.15.20//NONSGML v1.0//EN
CALSCALE:GREGORIAN
METHOD:PUBLISH
X-ORIGINAL-URL:https://jazzport-fn.de
X-WR-CALDESC:Veranstaltungen für JazzPort-Friedrichshafen e. V.
REFRESH-INTERVAL;VALUE=DURATION:PT1H
X-Robots-Tag:noindex
X-PUBLISHED-TTL:PT1H
BEGIN:VTIMEZONE
TZID:UTC
BEGIN:STANDARD
TZOFFSETFROM:+0000
TZOFFSETTO:+0000
TZNAME:UTC
DTSTART:20240101T000000
END:STANDARD
END:VTIMEZONE
BEGIN:VEVENT
DTSTART;TZID=UTC:20251204T200000
DTEND;TZID=UTC:20251204T220000
DTSTAMP:20260422T120649
CREATED:20250613T193448Z
LAST-MODIFIED:20251116T150440Z
UID:2087-1764878400-1764885600@jazzport-fn.de
SUMMARY:Bluff Band
DESCRIPTION:„Auf den gebt Acht\, von dem wird noch zu hören sein“\, soll Mozart über den jungen Beethoven in Wien gesagt haben. Ist zwar eine unbewiesene Anekdote\, klingt aber gut und stimmt ja auch. \nBLUFF wiederum ist eine der vielversprechendsten deutschen Bands\, das Projekt vier junger Jazzmusiker mit Ankerplatz Hamburg. Das Quartett richtet seinen Kompass nach der angesagten New Yorker Szene Ambrose Akinmusire und Immanuel Wilkins aus und nimmt diese Inspirationen in die eigene Musik auf. Die vier Musiker verstehen sich blind\, so dass sich die Musik nahezu von selbst gestaltet: Von der Melodie ausgehend\, brechen sie in lange dynamische Bögen aus und finden dennoch stets zur raffinierten Einfachheit des eigenen Musikstils zurück. \nIn sechs Jahren war BLUFF mehrmals deutschlandweit auf Tour und kann unter anderem Auftritte beim Elbjazz– und JazzBaltica-Festival vorweisen sowie den Gewinn des Jungen Deutschen Jazzpreises 2022. Anfang 2023 folgte das Debüt-Album “Sleight of Hand”. In ihrem brandneuen Programm stellen sie erneut ihre musikalische Wendigkeit und Kreativität unter Beweis. \nAuf die gebt Acht! Von denen wird noch zu hören sein! \nDas sagen andere: \nBLUFF ist ein Teil unserer Zukunft – schon jetzt. \n– Nils Landgren \n Eine tolle Band\, die irgendwo zwischen wirklich abstrakten Melodie- und Harmonieführungen trotzdem einen absoluten Pop-Appeal hat und einfach wahnsinnig gut klingt. \n– LAMBERT  \n  \nLine Up: \nChristian Höhn: tp \nTim Scherer: p \nLucas Kolbe: b \nMatteo Stefani: dr \nhttps://bluff.ffm.to/sleightofhand
URL:https://jazzport-fn.de/event/bluff_band/
LOCATION:Werkstatt @Kulturhaus Caserne\, Fallenbrunnen 17\, Friedrichshafen\, Baden Württemberg\, 88045\, Germany
CATEGORIES:Jazz am Donnerstag
ATTACH;FMTTYPE=image/jpeg:https://jazzport-fn.de/wp-content/uploads/2025/06/25-12-4_BLUFF_4c-1_©Anton-Deyssklein.jpg
ORGANIZER;CN="JazzPort Friedrichshafen e. V.":MAILTO:mail@jazzport-fn.de
END:VEVENT
BEGIN:VEVENT
DTSTART;TZID=UTC:20251211T200000
DTEND;TZID=UTC:20251211T220000
DTSTAMP:20260422T120649
CREATED:20250619T142102Z
LAST-MODIFIED:20251116T150534Z
UID:2116-1765483200-1765490400@jazzport-fn.de
SUMMARY:Tres Caballeros
DESCRIPTION:Geschmeidiger Gitarrenschmäh aus Wien in Topbesetzung \n„Die Drei Caballeros“ war 1944 ein surrealistisch-komischer Disney-Zeichentrickfilm\, in dem Donald Duck sich nach Mexiko\, in die große Freiheit aufmacht. \nDie drei „Caballeros“ aus Wien machten sich 2022 musikalisch in die große Freiheit auf\, in ihr immer wieder anders klingendes Zusammenspiel\, in dem musikalische Eleganz und extreme Spielfreude\, Einflüsse von Bill Frisell und John Scofield mit Folk- und Blues-Nuancen zusammenkommen. \nVerbunden durch ihre Liebe zu klassischen Gitarrentrios und der Affinität zu einem intimen\, akustischen Sound\, streben Tobias Faulhammer\, Gregor Aufmesser und Jakob Kammerer danach innerhalb gemeinsam konstruierter musikalischer Arrangements kreative Freiheit zu schaffen. \n„Was ich an diesem Trio besonders mag\, ist\, dass man kompositorisch gar nicht so viel vorgeben muss\, wenn man sich aufeinander einlässt. Man kann einfach spielen\, und jedes Stück entwickelt sich jedes Mal anders“ (Tobias Faulhammer). \nWas andere sagen : \nMit beeindruckender Kunstfertigkeit schaffen die Musiker intime\, improvisatorische Momente auf höchstem Niveau. \n– Music Austria \nLine Up: \nTobias Faulhammer: g \nGregor Aufmesser: b \nJakob Kammerer: dr
URL:https://jazzport-fn.de/event/tres-caballeros-aut/
LOCATION:Werkstatt @Kulturhaus Caserne\, Fallenbrunnen 17\, Friedrichshafen\, Baden Württemberg\, 88045\, Germany
CATEGORIES:Jazz am Donnerstag
ATTACH;FMTTYPE=image/jpeg:https://jazzport-fn.de/wp-content/uploads/2025/06/25-12-11_Caballeros_4c_by-Tobias-Faulhammer-scaled.jpg
ORGANIZER;CN="JazzPort Friedrichshafen e. V.":MAILTO:mail@jazzport-fn.de
END:VEVENT
BEGIN:VEVENT
DTSTART;TZID=UTC:20251218T200000
DTEND;TZID=UTC:20251218T220000
DTSTAMP:20260422T120649
CREATED:20250619T142416Z
LAST-MODIFIED:20251116T150644Z
UID:2117-1766088000-1766095200@jazzport-fn.de
SUMMARY:Tujia Komi
DESCRIPTION:Jazz mit leichter Hand\, zwischen Halbschatten\, Sonnenglanz und gewaltiger Stimme \nMitternächtliche Sonne und wochenlange Dunkelheit\, strahlend hell und voller Lebensfreude\, dämmriger Halbschatten und zarte Melancholie – das eine schwingt immer schon als Erinnerung im anderen mit. So ist dieses Finnland – und Tuija Komi ist ein Kind dieses großartigen Licht-und-Schatten-Theaters. Mit leichter Hand und gewaltiger Stimme verwandelt sie jeden Song in den ihrigen. Dabei kann sie sich mit Walter Lang (p)\, Peter Cudek (b) und Martin Kolb (dr) auf eine Band verlassen\, die wie ein perfekt aufeinander eingestimmter Klangkörper so sensibel wie selbstbewusst der Power-Frau Tuija Komi folgen. \n  \nWas andere sagen: \nKomis klare\, engelhaft starke Stimme\, die Melancholie der Melodien und der elegante Swing verknüpfen sich zum fröhlichen Weihnachtsgruß aus dem Norden\, gesungen von Herzen schön. \n– Süddeutsche Zeitung \nSonne um Mitternacht muss man erlebt haben. Denn dann kann man sie mit fröhlichem Nachdruck besingen wie die Finnin Tuija Komi\, die aus dem Leuchten ein Schwelgen macht. So kann Musik entstehen\, die mit dem Charme der Erfahrung den Swing des Nordens mit der Begeisterung für die Kraft des Melodischen verknüpft. Ein Album zum Mitlächeln. \n– Ralf Dombrowski\, Jazz-Autor \nDie Finnin zündet ein wunderbares Vokaljazz-Feuerwerk. Stimmgewalt und Interpretationskunst auf denkbar hohem Niveau. Selten so etwas Gutes gehört. \n– eReM-Online Jazz \n  \nLine Up: \nTujia Komi: voc \nStephan Weiser: p \nPeter Cudek: b \nMartin Kolb: dr
URL:https://jazzport-fn.de/event/tujia-komi-fin-d/
LOCATION:Werkstatt @Kulturhaus Caserne\, Fallenbrunnen 17\, Friedrichshafen\, Baden Württemberg\, 88045\, Germany
CATEGORIES:Jazz am Donnerstag
ATTACH;FMTTYPE=image/jpeg:https://jazzport-fn.de/wp-content/uploads/2025/06/25-12-18_Tuija-Komi-scaled.jpg
ORGANIZER;CN="JazzPort Friedrichshafen e. V.":MAILTO:mail@jazzport-fn.de
END:VEVENT
BEGIN:VEVENT
DTSTART;TZID=UTC:20251220T200000
DTEND;TZID=UTC:20251220T220000
DTSTAMP:20260422T120649
CREATED:20250703T195048Z
LAST-MODIFIED:20251116T150723Z
UID:2118-1766260800-1766268000@jazzport-fn.de
SUMMARY:New Jazzport Orchestra – X-Mas Special
DESCRIPTION:Wenn das New JazzPort Orchestra (NJPO) zum alljährlichen X-MAS Special lädt\, verwandelt sich die Caserne in ein swingendes Winterwunderland.  \nDoch in diesem Jahr ist alles ein bisschen anders – und zugleich wunderbar vertraut: \nGemeinsam mit dem charismatischen Sänger Kai Podack präsentiert das NJPO ein festliches Weihnachtsprogramm\, das selbst den Grinch zum Mitschnipsen bringt. \nPodack\, bekannt für seine warme Stimme\, seine stilvolle Bühnenpräsenz und seine ausgefeilten Arrangements\, hat eigens für diesen Abend eine weihnachtlich-jazzige Mischung zusammengestellt – mit Songs\, die wirklich (!) etwas mit Weihnachten zu tun haben.\nJa\, richtig gehört: dieses Mal gibt’s tatsächlich Weihnachtslieder – wenn auch natürlich im unverkennbaren NJPO-Gewand\, das aus jedem „Oh Tannenbaum“ ein groovendes Erlebnis macht. \nFreuen Sie sich auf beswingte Klassiker\, gefühlvolle Balladen und jede Menge musikalischen Glitzer – ein Abend voller Spielfreude\, Humor und echter Weihnachtsstimmung. \nAlso: Glühweinherz an\, Alltag aus – und eintauchen in das X-MAS Special 2025 mit dem NJPO und Kai Podack!
URL:https://jazzport-fn.de/event/njpo-x-mas-special-casino/
LOCATION:Kulturraum Casino @Kulturhaus Caserne\, Fallenbrunnen 17\, Friedrichshafen\, Baden Württemberg\, 88045\, Germany
CATEGORIES:Jazz am Samstag
ATTACH;FMTTYPE=image/jpeg:https://jazzport-fn.de/wp-content/uploads/2025/07/NJPO_G757332.jpg
ORGANIZER;CN="JazzPort Friedrichshafen e. V.":MAILTO:mail@jazzport-fn.de
END:VEVENT
END:VCALENDAR