BEGIN:VCALENDAR
VERSION:2.0
PRODID:-//JazzPort-Friedrichshafen e. V. - ECPv6.15.20//NONSGML v1.0//EN
CALSCALE:GREGORIAN
METHOD:PUBLISH
X-WR-CALNAME:JazzPort-Friedrichshafen e. V.
X-ORIGINAL-URL:https://jazzport-fn.de
X-WR-CALDESC:Veranstaltungen für JazzPort-Friedrichshafen e. V.
REFRESH-INTERVAL;VALUE=DURATION:PT1H
X-Robots-Tag:noindex
X-PUBLISHED-TTL:PT1H
BEGIN:VTIMEZONE
TZID:UTC
BEGIN:STANDARD
TZOFFSETFROM:+0000
TZOFFSETTO:+0000
TZNAME:UTC
DTSTART:20240101T000000
END:STANDARD
END:VTIMEZONE
BEGIN:VEVENT
DTSTART;TZID=UTC:20251106T200000
DTEND;TZID=UTC:20251106T220000
DTSTAMP:20260424T153454
CREATED:20250619T140414Z
LAST-MODIFIED:20250828T132123Z
UID:2113-1762459200-1762466400@jazzport-fn.de
SUMMARY:Manfred Junker Organ Trio
DESCRIPTION:Klassischer und swingender Organ-Trio Jazz für Birne\, Bauch und Bein \nMusik zwischen raffinierter Komposition und ideenreicher Improvisation\, wuchtiger Dichte und perlender Transparenz\, lyrischer Melancholie und zupackendem Groove – das Manfred Junker Organ Trio feiert ein Programm voller Spielfreude und Musikalität mit Gitarre\, Hammond B3 und Schlagzeug ab. \nManfred Junker studierte an der Jazzschule St. Gallen\, war Stipendiat am Berklee College of Music und ist seit 15 Jahren in Sachen Groove mit Verstand unterwegs. \nDer Organist Thomas Bauser\, seit vielen Jahren eine feste Größe der Freiburger Szene\, hat schon mit Größen wie Louisiana Red\, David Friesen\, Peter O‘Mara oder Cécile Verny die Bühne geteilt\, Drummer Tony Renold bringt seit über 40 Jahren Stars wie Franco Ambrosetti\, Dieter Ilg\, Kenny Drew oder Dave Liebman feinfühlig auf Trab. \nWas andere sagen: \nEin Hochamt für alle Hammond-Fans \nLine Up: \nManfred Junker: g \nThomas Bauser: org \nTony Renold: dr
URL:https://jazzport-fn.de/event/manfred-junker-organ-trio-d-ch/
LOCATION:Werkstatt @Kulturhaus Caserne\, Fallenbrunnen 17\, Friedrichshafen\, Baden Württemberg\, 88045\, Germany
CATEGORIES:Jazz am Donnerstag
ATTACH;FMTTYPE=image/jpeg:https://jazzport-fn.de/wp-content/uploads/2025/06/25-11-6_ManfredJunkerOrganTrio_by-GuentherHenrySchulze-scaled.jpeg
ORGANIZER;CN="JazzPort Friedrichshafen e. V.":MAILTO:mail@jazzport-fn.de
END:VEVENT
BEGIN:VEVENT
DTSTART;TZID=UTC:20251113T200000
DTEND;TZID=UTC:20251113T220000
DTSTAMP:20260424T153454
CREATED:20250613T193448Z
LAST-MODIFIED:20250828T132145Z
UID:2079-1763064000-1763071200@jazzport-fn.de
SUMMARY:Greyhound Band
DESCRIPTION:„On the road“ mit immer noch viel Dampf unter der Motorhaube und Songs von Clapton & Co in eigener Interpretation – und läuft und läuft und läuft \nDie Greyhound Band um Leadsänger- und Gitarrist Stephan Leitritz besteht aus vier versierten Musikern\, die souverän Musik zum Abfahren on stage präsentieren. Mit rockigem Profil auf den Reifen\, einer Menge Blues unter der Motorhaube und gepflegten Balladen in der Cool-Box nehmen sie ihr Publikum stimmgewaltig und gut gelaunt mit on the road. Zu hören sind Songs von Eric Clapton\, Robben Ford und Billy Joel hin zu Ray Charles und Steve Wonder in eigenständigen Interpretationen. \n  \nLine Up: \nStephan Leitritz: g\, voc \nKurt Grüny: keyb\, voc \nWilli Biesinger: bg\, voc \nFuchsi Fuchsloch: dr\, voc
URL:https://jazzport-fn.de/event/greyhound_band/
LOCATION:Werkstatt @Kulturhaus Caserne\, Fallenbrunnen 17\, Friedrichshafen\, Baden Württemberg\, 88045\, Germany
CATEGORIES:Jazz am Donnerstag
ATTACH;FMTTYPE=image/png:https://jazzport-fn.de/wp-content/uploads/2025/06/25-11-13_Greyhound-1.png
ORGANIZER;CN="JazzPort Friedrichshafen e. V.":MAILTO:mail@jazzport-fn.de
END:VEVENT
BEGIN:VEVENT
DTSTART;TZID=UTC:20251120T200000
DTEND;TZID=UTC:20251120T220000
DTSTAMP:20260424T153454
CREATED:20250619T140901Z
LAST-MODIFIED:20251116T150247Z
UID:2114-1763668800-1763676000@jazzport-fn.de
SUMMARY:Stark Trio
DESCRIPTION:Hommage an den Bassisten und Komponisten Steve Swallow in feiner Triobesetzung \nSteve Swallow ist einer der großen Stilisten des Jazz\, sein katzenhafter Bassgitarren-Sound ist ebenso unverkennbar wie elegant und auf den Punkt. Der 85-Jährige ist aber nicht nur ein aussergewöhnlicher Bassist\, Leader und Sideman\, sondern auch ein stilprägender Komponist des modernen Jazz. Seine Kompositionen wurden und werden von Musikern wie Bill Evans\, Chick Corea\, Stan Getz\, Gary Burton\, Art Farmer\, Phil Woods\, Jack DeJohnette\, Steve Kuhn\, Lyle Mays\, Jim Hall und Pat Metheny gespielt.\nDas stark Trio würdigt mit seinem Projekt das kompositorische Werk Swallows\, setzt mit der Suche nach neuen Interpretationen einer Legende sowohl ein Denkmal als es auch in die Zukunft führt. \nWas andere sagen:\n„I’m touched by your version of I’m Your Pal\, …. Thanks for treating my little song with such care. Every composer should be so fortunate“\nIch bin gerührt von deiner Version von „I’m Your Pal“\, …. Danke\, dass du mein kleines Lied mit so viel Sorgfalt behandelt hast. Jeder Komponist sollte sich so glücklich schätzen.\n– Steve Swallow\, per Email 28.09.2019 \nLine Up:\nRüdiger Stark: p\nMichael Pöhlmann: b\nDavid Giesel: dr \nhttps://starktrio.bandcamp.com/album/thinking-out-loud
URL:https://jazzport-fn.de/event/stark-trio-bw-fr/
LOCATION:Werkstatt @Kulturhaus Caserne\, Fallenbrunnen 17\, Friedrichshafen\, Baden Württemberg\, 88045\, Germany
CATEGORIES:Jazz am Donnerstag
ATTACH;FMTTYPE=image/jpeg:https://jazzport-fn.de/wp-content/uploads/2025/06/25-11-20_Stark-Trio.jpeg
ORGANIZER;CN="JazzPort Friedrichshafen e. V.":MAILTO:mail@jazzport-fn.de
END:VEVENT
BEGIN:VEVENT
DTSTART;TZID=UTC:20251127T200000
DTEND;TZID=UTC:20251127T220000
DTSTAMP:20260424T153454
CREATED:20250619T141107Z
LAST-MODIFIED:20251116T150355Z
UID:2115-1764273600-1764280800@jazzport-fn.de
SUMMARY:Paul Walke–Tabea Kind- Trio
DESCRIPTION:Melancholisch versponnenes\, ganz feines Trio mit einer der angesagtesten Bassistinnen Deutschlands \nEin Kontrabass hat keine Bünde\, Tabea Kinds Bassspiel ist bunt und grenzenlos. Von Karlsruhe nach Basel ist sie gezogen\, und von dort nach einem Masterstudium nach Köln – eigentlich aber ist Tabea Kind gerade vielerorts zu Hause. Ob bei Renner\, der aufstrebenden bayerischen Band des Posaunisten Moritz Renner\, ob beim Saxofonisten Paul Beskers oder dem Pianisten Leon Hattori in Köln\, Tabea Kind „basst“ in viele Formen und Formate in der Stilvielfalt des jüngsten deutschen Jazz. Dazu kommen noch Stints mit Pablo Held und Bill Elgart und Bands aus ihrer „Schweizer Zeit“\, wie etwa die der Berner Avant-Pop-Sängerin Aino Salto. \nKinds Debüt-CD Fragments ist mehr Meisterwerk als Gesellenstück\, mehr Songs als Tunes\, mehr ein offenes Dauer-Zusammenspiel als Thema-Solo-Thema-Schluss\, luftig-verschraubte Poesien mit stilistischem Verwirrungspotenzial. Mit Neuzugang Lukas Wörgler am Saxofon haben die Bassistin und ihr langjähriger Duo-Partner\, der Gitarrist Paul Walke\, nun eine neue funkelnde Facette gefunden\, die sie ganz frisch im Jazzport funkeln lassen. \n  \nWas andere sagen: \n„Fragments“ ist ein absolut hörenswertes Debüt mit einer Qualität\, die über den Tag hinaus klingt. \n– Georg Waßmuth\, SWR\, CD der Woche \nein mitreißendes und eindringliches Debüt\, reich an Emotionen und Melodien \n– London Jazz News (UK) \nein Bassspiel\, das auf der ganzen Platte funkelt \n– saltpeantus (NOR) \n  \nLine Up: \nLukas Wögler: sax \nPaul Walke: g \nTabea Kind: b \n 
URL:https://jazzport-fn.de/event/paul-walke-tabea-kind-trio-d/
LOCATION:Werkstatt @Kulturhaus Caserne\, Fallenbrunnen 17\, Friedrichshafen\, Baden Württemberg\, 88045\, Germany
CATEGORIES:Jazz am Donnerstag
ATTACH;FMTTYPE=image/jpeg:https://jazzport-fn.de/wp-content/uploads/2025/06/25-11-27_Kind-Woegler-Walke-Montage-Kopie.jpg
ORGANIZER;CN="JazzPort Friedrichshafen e. V.":MAILTO:mail@jazzport-fn.de
END:VEVENT
END:VCALENDAR