BEGIN:VCALENDAR
VERSION:2.0
PRODID:-//JazzPort-Friedrichshafen e. V. - ECPv6.15.20//NONSGML v1.0//EN
CALSCALE:GREGORIAN
METHOD:PUBLISH
X-WR-CALNAME:JazzPort-Friedrichshafen e. V.
X-ORIGINAL-URL:https://jazzport-fn.de
X-WR-CALDESC:Veranstaltungen für JazzPort-Friedrichshafen e. V.
REFRESH-INTERVAL;VALUE=DURATION:PT1H
X-Robots-Tag:noindex
X-PUBLISHED-TTL:PT1H
BEGIN:VTIMEZONE
TZID:UTC
BEGIN:STANDARD
TZOFFSETFROM:+0000
TZOFFSETTO:+0000
TZNAME:UTC
DTSTART:20250101T000000
END:STANDARD
END:VTIMEZONE
BEGIN:VEVENT
DTSTART;TZID=UTC:20260402T200000
DTEND;TZID=UTC:20260402T200000
DTSTAMP:20260421T230636
CREATED:20250703T195105Z
LAST-MODIFIED:20260313T145308Z
UID:2218-1775160000-1775160000@jazzport-fn.de
SUMMARY:Artur Rutkevich Quartett
DESCRIPTION:Frisch\, frei und lebendig \nArtur Rutkevich ist ein aufstrebender Star in der europäischen Jazzszene\, bekannt für seine ausdrucksstarken Altsaxophon-Performances und innovativen Kompositionen. Ursprünglich aus Kaliningrad stammend\, lebt er seit 2020 in Berlin\, wo er am Jazz-Institut Berlin Jazz-Saxophon studiert. \nSein 2022 gegründetes Quartett verbindet gekonnt traditionelle Jazzelemente mit zeitgenössischer Improvisation\, brilliert mit energiegeladenen Klänge und klarem Sound\, erfrischend\, klangvoll und lebendig. \nSeine künstlerische Heimat hat das Quartett in den vibrierenden Jazzszene Berlins gefunden. Doch ihr wahres Zuhause erstreckt sich über die Grenzen der Stadt hinaus – mit einem modernen Sound auf Jazzfestivals in ganz Europa. \nLine Up:\nArtur Rutkevich: Alt-Saxophon\nNick Cavoli: Trompete\nNikolay Olshansky: Kontrabass\nBastian Menz: Schlagzeug
URL:https://jazzport-fn.de/event/artur-rutkevich-quartett/
LOCATION:Werkstatt @Kulturhaus Caserne\, Fallenbrunnen 17\, Friedrichshafen\, Baden Württemberg\, 88045\, Germany
CATEGORIES:Jazz am Donnerstag
ATTACH;FMTTYPE=image/jpeg:https://jazzport-fn.de/wp-content/uploads/2025/07/26-4-2_Rutkevich-collage.jpeg
ORGANIZER;CN="JazzPort Friedrichshafen e. V.":MAILTO:mail@jazzport-fn.de
END:VEVENT
END:VCALENDAR