BEGIN:VCALENDAR
VERSION:2.0
PRODID:-//JazzPort-Friedrichshafen e. V. - ECPv6.15.20//NONSGML v1.0//EN
CALSCALE:GREGORIAN
METHOD:PUBLISH
X-ORIGINAL-URL:https://jazzport-fn.de
X-WR-CALDESC:Veranstaltungen für JazzPort-Friedrichshafen e. V.
REFRESH-INTERVAL;VALUE=DURATION:PT1H
X-Robots-Tag:noindex
X-PUBLISHED-TTL:PT1H
BEGIN:VTIMEZONE
TZID:UTC
BEGIN:STANDARD
TZOFFSETFROM:+0000
TZOFFSETTO:+0000
TZNAME:UTC
DTSTART:20250101T000000
END:STANDARD
END:VTIMEZONE
BEGIN:VEVENT
DTSTART;TZID=UTC:20260319T200000
DTEND;TZID=UTC:20260319T200000
DTSTAMP:20260422T031333
CREATED:20250703T195105Z
LAST-MODIFIED:20251021T165349Z
UID:2216-1773950400-1773950400@jazzport-fn.de
SUMMARY:Jerry Weldon Quartet
DESCRIPTION:Ein Hurricane von einem Tenor \nDer Mann ist ein Poser\, nicht nur von der äußeren Erscheinung her. Wenn Jerry Weldon spielt\, dann spielt sein ganzer Körper. Bei ihm wirkt Jazz noch wie harte\, schweißtreibende Männerarbeit\, eine Mixtur aus purer Kraft und urwüchsiger Virilität. \nSeit 45 Jahren gilt der New Yorker als einer der begnadetsten und gefragtesten Solisten im Mainstream Jazz. Sein grollend-rollendes Spiel fegt wie ein Hurricane über die Zuhörer hinweg\, erinnert an Großmeister wie Dexter Gordon\, Gene Ammons\, Stanley Turrentine – voller Swing\, Blues\, Spielfreude und virtuoser Leichtigkeit.\nInternational bekannt wurde Weldon ab 1981 durch seine Zusammenarbeit mit Jazzlegenden wie Lionel Hampton\, George Benson\, Jimmy Cobb\, Mel Tormé\, Cedar Walton\, Joey DeFrancesco. Acht CDs als Bandleader und mehr Sideman-Auftritte\, als er zählen kann\, lesen sich als Leistungskatalog des „Who’s Who des Jazz“. Seit 1990 ist er auch Solist der Harry Connick Jr. Bigband. \nJungen Musikern sagt Weldon\, sie sollten immer spielen\, als ob von jedem Ton ihr Leben abhänge. Und genau daran hält sich seine Rhythm Section: Giorgos Antoniou ist gegenwärtig einer der international gefragtesten Bassisten\, Xaver Hellmeier hat sich am Schlagzeug über Europa hinaus einen Namen gemacht\, und Julian Schmidt am Klavier gilt als ein Rising Star der europäischen Szene. \nPerücken fixieren\, anschnallen und festhalten\, es wird ein wilder Abend werden. \nWas andere schreiben:\n„…einer der stärksten Tenorman der Szene”\n– MVD Entertainment Group \n“A thoughtful soloist whose subtle swing has plenty of fiber.”\n– Ira Gitler\, The Biographical Encyclopedia of Jazz \nLine Up:\nJerry Weldon: Tenorsaxophon\nJulian Schmidt: Klavier\nGiorgos Antoniou: Kontrabass\nXaver Hellmeier: Schlagzeug \nLink:\nhttps://www.jerryweldon.net/videos
URL:https://jazzport-fn.de/event/jerry-weldon-quartet/
LOCATION:Werkstatt @Kulturhaus Caserne\, Fallenbrunnen 17\, Friedrichshafen\, Baden Württemberg\, 88045\, Germany
CATEGORIES:Jazz am Donnerstag
ATTACH;FMTTYPE=image/webp:https://jazzport-fn.de/wp-content/uploads/2025/07/26-3-19_Jerry-Weldon_4c_c-Emanuele-Taccardi.webp
ORGANIZER;CN="JazzPort Friedrichshafen e. V.":MAILTO:mail@jazzport-fn.de
END:VEVENT
END:VCALENDAR