BEGIN:VCALENDAR
VERSION:2.0
PRODID:-//JazzPort-Friedrichshafen e. V. - ECPv6.15.20//NONSGML v1.0//EN
CALSCALE:GREGORIAN
METHOD:PUBLISH
X-ORIGINAL-URL:https://jazzport-fn.de
X-WR-CALDESC:Veranstaltungen für JazzPort-Friedrichshafen e. V.
REFRESH-INTERVAL;VALUE=DURATION:PT1H
X-Robots-Tag:noindex
X-PUBLISHED-TTL:PT1H
BEGIN:VTIMEZONE
TZID:UTC
BEGIN:STANDARD
TZOFFSETFROM:+0000
TZOFFSETTO:+0000
TZNAME:UTC
DTSTART:20250101T000000
END:STANDARD
END:VTIMEZONE
BEGIN:VEVENT
DTSTART;TZID=UTC:20260312T200000
DTEND;TZID=UTC:20260312T200000
DTSTAMP:20260422T031526
CREATED:20250703T195105Z
LAST-MODIFIED:20251127T063143Z
UID:2215-1773345600-1773345600@jazzport-fn.de
SUMMARY:Sandia
DESCRIPTION:Fesselnde Melodien und Rhythmen aus Nahost \nSandia steht für eine Musik\, die Jazz\, Ethno\, Weltmusik und Fusion auf innovative Weise verbindet. Mit ihrer Mischung aus Groove\, emotionaler Tiefe\, lyrischen Melodien und komplexen Strukturen gewann das Quartett 2023 den ersten Preis des internationalen Wettbewerbs 7 Virtual Jazz Club in Italien\, eine Auszeichnung von 38 Juroren aus der ganzen Welt. Nach zahlreichen Auftritten in Clubs und auf Festivals erschien im August 2024 das Debütalbum Sipur Layla. \nDie Mitglieder der Gruppe bringen unterschiedliche musikalische Hintergründe mit – aus Jazz über Klassik bis hin zu Hip-Hop – und vereinen diese Einflüsse zu einem facettenreichen Sound. Jazz steht im Mittelpunkt\, dreht sich aber um ethnische Einflüsse aus jüdischer\, israelischer\, arabischer Musik und Latin. Asymmetrische Rhythmen und polyphone Melodien prägen die Kompositionen. Obwohl vertrackt\, sind die Melodien und Grooves fesselnd und voller Emotion. \nWas andere schreiben:\n„…eine der interessantesten neuen Stimmen in der Nahost-Jazzszene – ein kleines Juwel einer vielversprechenden Band.“\n— Jazz Club Ferrara \nLine Up:\nDekel Epstein: Saxophone\nShauli Shoub: Klavier\nJonathan Heruti: E-Bass\nNoam David: Schlagzeug \nLink:\n \n \n 
URL:https://jazzport-fn.de/event/sandia-4-5/
LOCATION:Werkstatt @Kulturhaus Caserne\, Fallenbrunnen 17\, Friedrichshafen\, Baden Württemberg\, 88045\, Germany
CATEGORIES:Jazz am Donnerstag
ATTACH;FMTTYPE=image/jpeg:https://jazzport-fn.de/wp-content/uploads/2025/07/26-3-12_Sandia_c-Riccardo-Crimi.jpg
ORGANIZER;CN="JazzPort Friedrichshafen e. V.":MAILTO:mail@jazzport-fn.de
END:VEVENT
END:VCALENDAR