BEGIN:VCALENDAR
VERSION:2.0
PRODID:-//JazzPort-Friedrichshafen e. V. - ECPv6.15.20//NONSGML v1.0//EN
CALSCALE:GREGORIAN
METHOD:PUBLISH
X-ORIGINAL-URL:https://jazzport-fn.de
X-WR-CALDESC:Veranstaltungen für JazzPort-Friedrichshafen e. V.
REFRESH-INTERVAL;VALUE=DURATION:PT1H
X-Robots-Tag:noindex
X-PUBLISHED-TTL:PT1H
BEGIN:VTIMEZONE
TZID:UTC
BEGIN:STANDARD
TZOFFSETFROM:+0000
TZOFFSETTO:+0000
TZNAME:UTC
DTSTART:20250101T000000
END:STANDARD
END:VTIMEZONE
BEGIN:VEVENT
DTSTART;TZID=UTC:20260305T200000
DTEND;TZID=UTC:20260305T200000
DTSTAMP:20260422T031333
CREATED:20250703T195105Z
LAST-MODIFIED:20251021T164831Z
UID:2128-1772740800-1772740800@jazzport-fn.de
SUMMARY:Magnus Mehl Quartett
DESCRIPTION:Upside down and in Between \n„Upside down and in between“\, das bedeutet vielschichtige Klangwelten\, die von individuellen Musikerpersönlichkeiten ausgelotet werden. Innerhalb kompositorisch geschaffener Rahmenbedingungen\, bieten sich jedem der Beteiligten extrem viel Freiräume für spannungsgeladene Improvisationen und spontane Interaktion. Teilweise kommunizieren die Akteure auch völlig frei im Rahmen von Miniaturen miteinander. \nSo entstehen ganz persönliche und einzigartige Momente\, die auf eindrucksvolle Art und Weise durch vier Solisten zu einem Klangkollektiv verschmelzen. Das Ensemble wandelt im aktuellen Programm zwischen raffinierter Komposition und ideenreicher Improvisation\, zwischen wuchtiger Dichte und perlender Transparenz\, sowie zwischen lyrischer Melancholie und zupackenden Grooves. \nMagnus Mehl spielt in den Landes-Jazzorchestern von Baden-Württemberg\, Bayern und NRW\, sowie im Bundes-Jazzorchester BuJazzO. Mit verschiedenen Ensembles gewinnt er erste Preise\, bei internationalen Jazzwettbewerben in Spanien und Italien\, den Kulturförderpreis seiner Heimatstadt Rottweil und 2015 den Jazzpreis des Landes Baden-Württemberg. Konzerte mit u.a. Paquito de Riviera\, Randy Brecker\, Buster Cooper\, Antonio Hart\, Sandy Patton\, Mark Soskin\, Dick Oatts\,Nils Wogram\, der Schauspielerin Katja Riemann\, Frank Chastenier u.v.m. \nFerenc Mehl war Schlagzeuger in den Landesjazzorchestern von Baden-Württemberg\, Bayern und Sachsen und im BuJazzO. Mit FuMMQ veröffentlicht er zwei CDs unter eigenem Namen\, war 2014 Stipendiat der Kunststiftung Baden-Württemberg. Seine vielseitigen musikalischen Tätigkeiten führten ihn bereits nach China\, England\, Holland\, Italien\, Malaysia\, Österreich\, Spanien\, Serbien\, Kosovo\, Taiwan und Thailand. \nChristian Mehler war Gastsolist bei der WDR und der SWR Big Band sowie Leadtrompeter des Grammy-ausgezeichneten Afro Cuban Jazz Orchestra der Manhattan School of Music. Er ist Mitglied im „Subway Jazz Orchester“\, dem „Ed Partyka Jazz Orchestra“ und dem Berliner „Fabia Mantwill Orchestra“ und leitet sein eigenes Sextett. Auf Tourneen weltweit konzertierte er u.a. mit John Abercrombie\, Randy Brecker\, Jacob Collier\, Kurt Elling\, Jeff Hamilton\, Jim McNeely\, Rufus Reid und Ack Van Rooyen. \nDietmar Fuhr studierte an der Hochschule für Musik und Tanz Köln und dann in der harten Realität von New York. Seit 2009 unterrichtet er Jazz-Kontrabass an der HfM Köln. Konzerte\, Rundfunk- und CD-Aufnahmen mit u.a. Florian Ross\, Enrico Rava \, Richie Beirach\, Dave Liebman\, Kurt Rosenwinkel\, Jochen Rückert\, John Schröder\, Wolfgang Muthspiel\, Danny Gottlieb\, Antonio Farao\, Nils Wogram und Till Brönner. \n  \nLine Up:\nMagnus Mehl: Alt- & Sopran-Saxophon\nChristian Mehler: Trompete & Flügelhorn\nDietmar Fuhr: Kontrabass\nFerenc Mehl: Schlagzeug \n 
URL:https://jazzport-fn.de/event/magnus-mehl-4-bw-s/
LOCATION:Werkstatt @Kulturhaus Caserne\, Fallenbrunnen 17\, Friedrichshafen\, Baden Württemberg\, 88045\, Germany
CATEGORIES:Jazz am Donnerstag
ATTACH;FMTTYPE=image/jpeg:https://jazzport-fn.de/wp-content/uploads/2025/07/26-3-5_Magnus-Mehl-4tett_c-Guenther-huesmann-scaled.jpg
ORGANIZER;CN="JazzPort Friedrichshafen e. V.":MAILTO:mail@jazzport-fn.de
END:VEVENT
END:VCALENDAR