BEGIN:VCALENDAR
VERSION:2.0
PRODID:-//JazzPort-Friedrichshafen e. V. - ECPv6.15.20//NONSGML v1.0//EN
CALSCALE:GREGORIAN
METHOD:PUBLISH
X-ORIGINAL-URL:https://jazzport-fn.de
X-WR-CALDESC:Veranstaltungen für JazzPort-Friedrichshafen e. V.
REFRESH-INTERVAL;VALUE=DURATION:PT1H
X-Robots-Tag:noindex
X-PUBLISHED-TTL:PT1H
BEGIN:VTIMEZONE
TZID:UTC
BEGIN:STANDARD
TZOFFSETFROM:+0000
TZOFFSETTO:+0000
TZNAME:UTC
DTSTART:20250101T000000
END:STANDARD
END:VTIMEZONE
BEGIN:VEVENT
DTSTART;TZID=UTC:20260226T200000
DTEND;TZID=UTC:20260226T200000
DTSTAMP:20260422T031558
CREATED:20250703T195049Z
LAST-MODIFIED:20251021T164608Z
UID:2127-1772136000-1772136000@jazzport-fn.de
SUMMARY:Lothar Kraft Quintett feat. Joe Magnarelli
DESCRIPTION:Magnus Trompetae \nEr zählt zu den weltweit führenden Jazz-Trompetern und blickt auf eine mehr als 40-jährige Karriere zurück: Der New Yorker Joe Magnarelli fasziniert mit seinem improvisatorischen Ideenreichtum\, seinem warmen Ton und seiner brillanten Technik. Besonders im Neo- und Hardbop gilt er als Top-Stylist und spielte mit zahlreichen Größen der internationalen Jazzszene (u.a. Aretha Franklin).\nSein Hardbop-Quintett besteht aus renommierten Jazzmusikern aus Baden-Württemberg\, darunter dem Stuttgarter Saxofonisten Andi Maile\, Mitglied der SWR Big Band und Träger des Landesjazzpreis Baden-Württemberg. Die Rhythmusgruppe bilden der Kißlegger Pianist Lothar Kraft\, feste Größe der Jazzszene Allgäu-Bodensee-Oberschwaben\, der virtuose und vielbeschäftigte Bassist Joel Locher aus Stuttgart sowie der hochgeschätzte Schlagzeuger Patrick Manzecchi aus Konstanz. \nLineUp:\nJoe Magnarelli – Trompete\nAndi Maile – Saxofon\nLothar Kraft – Klavier\nJoel Locher – Kontrabass\nPatrick Manzecchi – Schlagzeug \n 
URL:https://jazzport-fn.de/event/lothar-kraft-ft-joe-magnarelli/
LOCATION:Werkstatt @Kulturhaus Caserne\, Fallenbrunnen 17\, Friedrichshafen\, Baden Württemberg\, 88045\, Germany
CATEGORIES:Jazz am Donnerstag
ATTACH;FMTTYPE=image/jpeg:https://jazzport-fn.de/wp-content/uploads/2025/07/26-2-26_Joe-Magnarelli-1.jpg
ORGANIZER;CN="JazzPort Friedrichshafen e. V.":MAILTO:mail@jazzport-fn.de
END:VEVENT
END:VCALENDAR