BEGIN:VCALENDAR
VERSION:2.0
PRODID:-//JazzPort-Friedrichshafen e. V. - ECPv6.15.20//NONSGML v1.0//EN
CALSCALE:GREGORIAN
METHOD:PUBLISH
X-WR-CALNAME:JazzPort-Friedrichshafen e. V.
X-ORIGINAL-URL:https://jazzport-fn.de
X-WR-CALDESC:Veranstaltungen für JazzPort-Friedrichshafen e. V.
REFRESH-INTERVAL;VALUE=DURATION:PT1H
X-Robots-Tag:noindex
X-PUBLISHED-TTL:PT1H
BEGIN:VTIMEZONE
TZID:UTC
BEGIN:STANDARD
TZOFFSETFROM:+0000
TZOFFSETTO:+0000
TZNAME:UTC
DTSTART:20250101T000000
END:STANDARD
END:VTIMEZONE
BEGIN:VEVENT
DTSTART;TZID=UTC:20260219T200000
DTEND;TZID=UTC:20260219T200000
DTSTAMP:20260422T075414
CREATED:20250703T195049Z
LAST-MODIFIED:20251021T164317Z
UID:2126-1771531200-1771531200@jazzport-fn.de
SUMMARY:Matti Klein Soul Trio
DESCRIPTION:Brodelndes Berliner Orgeltrio \nSoul? Das ist doch diese groovige Musik mit großem Gebläse. Dass es auch ohne Brass Section höchst funky und groovy werden kann\, zeigt das Matti Klein Soultrio aus Berlin. \nEin einzigartiger Sound aus den warmen Klängen von Kleins Wurlitzer-E-Piano\, kombiniert mit dem tiefen Fundament eines seltenen 1973er Rhodes Bass\, dem effektreich-expressiven Spiel von Saxofonist und Bassklarinettist Lars Dieterich und den rhythmisch höchst flexiblen Drums von André Seidel. \nMatti Kleins Soul Trio jongliert virtuos mit verschiedenen Blasen aus Jazz\, Funk\, HipHop und Space-Rock\, und bringt diese lustvoll zum Zerplatzen zu bringen. Als Teil der erfolgreichen Jazzfunk-Formation Mo‘ Blow und als musikalischer Direktor der brasilianischen Soulpop-Legende Ed Motta stand Klein schon auf den Bühnen der großen Jazzclubs von New York\, Tokio\, London und Paris. Auch sein 2017 gemeinsam mit Dieterich und Mo‘-Blow-Kollege André Seidel gegründetes Soul Trio kann inzwischen auf über 300 Konzerte in aller Welt zurückblicken – mit Auftritten und Tourneen u.a. in Südafrika\, Malaysia\, Bahrain\, Finnland oder Großbritannien. \nWas andere schreiben:\n„eine neue\, heiß brodelnde Variante des beliebten Orgeltrio-Formats“\n— Jazzwise \n„Out of this world!“\nKEYBOARDS – Magazine for Electronic Instruments \nLine Up:\nMatti Klein: Wurlitzer\, Rhodes Bass\nLars Dieterich: Saxophon\, Bass-Klarinette\nAndré Seidel: Schlagzeug \nLink:
URL:https://jazzport-fn.de/event/matti-klein-soul-trio-b/
LOCATION:Werkstatt @Kulturhaus Caserne\, Fallenbrunnen 17\, Friedrichshafen\, Baden Württemberg\, 88045\, Germany
CATEGORIES:Jazz am Donnerstag
ATTACH;FMTTYPE=image/jpeg:https://jazzport-fn.de/wp-content/uploads/2025/07/26-2-19_Matti-Klein_Soul-Trio_cJM-Jorissen-scaled.jpg
ORGANIZER;CN="JazzPort Friedrichshafen e. V.":MAILTO:mail@jazzport-fn.de
END:VEVENT
END:VCALENDAR