BEGIN:VCALENDAR
VERSION:2.0
PRODID:-//JazzPort-Friedrichshafen e. V. - ECPv6.15.20//NONSGML v1.0//EN
CALSCALE:GREGORIAN
METHOD:PUBLISH
X-ORIGINAL-URL:https://jazzport-fn.de
X-WR-CALDESC:Veranstaltungen für JazzPort-Friedrichshafen e. V.
REFRESH-INTERVAL;VALUE=DURATION:PT1H
X-Robots-Tag:noindex
X-PUBLISHED-TTL:PT1H
BEGIN:VTIMEZONE
TZID:UTC
BEGIN:STANDARD
TZOFFSETFROM:+0000
TZOFFSETTO:+0000
TZNAME:UTC
DTSTART:20250101T000000
END:STANDARD
END:VTIMEZONE
BEGIN:VEVENT
DTSTART;TZID=UTC:20260212T200000
DTEND;TZID=UTC:20260212T200000
DTSTAMP:20260422T081514
CREATED:20250703T195049Z
LAST-MODIFIED:20251020T205235Z
UID:2125-1770926400-1770926400@jazzport-fn.de
SUMMARY:Valentin Schuppich Trio feat. Roman Schwaller
DESCRIPTION:Weltklasse-Hardcore Swing mit Schmäh und Schmackes\nManche werden sich daran erinnern: Vor zwei Jahren gastierte Roman Schwaller mit dem Valentin Schuppich-Trio im Jazzport\, ein furios-grandioser Abend mit einem Weltklassesaxofonisten. Der Wiener Saxophonist spielte mit der legendären Carla Bley Bigband ebenso wie in der NDR Bigband\, hat an der Seite von US-Ikonen Johnny Griffin\, Dizzy Gillespie oder Horace Parlan sein Publikum hingerissen.\nNicht minder eindrücklich ist die famose Rhythmusgruppe des Valentin Schuppich Trios:\nDer serbische Schlagzeuger Dušan Novakov hat schon Dusko Goykovich\, Valery Ponomarev\, Don Menza oder Mark Murphy auf Trab gebracht\, während Bassist Karol Hodas für viele Wiener Bands das sichere Fundament legt. Valentin Schuppich selbst gilt  als einer großen Pianisten einer jungen Jazzgeneration\, die nach neuen Ufern strebt\, aber dabei die swingende Tradition nicht aus den Augen verliert.\nDas Quartett weckt Reminiszenzen an die Bands von Johnny Griffin oder Clifford Jordan\, trägt jedoch unverwechselbar die Stimme der einzelnen Solisten\, selten gespielte Jazzstandards und Perlen der Jazzliteratur in hippen Arrangements\, in denen alle Bandmitglieder kreativ und solistisch zur Geltung kommen. Das Quartett präsentiert zugleich ihr neues Album “This is new”. \nWas andere schreiben:\n„Valentin Schuppich und seine Mitmusiker beweisen auf eindrucksvolle Weise\, dass man das Rad des Jazz nicht neu zu erfinden braucht\, um einen wirklich aufregenden und mitreißenden Sound zu Gehör zu bringen.“\n— Michael Ternai\, Musik Austria \nLine Up:\nRoman Schwaller: Tenorsaxophon\nValentin Schuppich: Klavier\nKarel Hodas: Kontrabass\nDušan Novakov: Schlagzeug
URL:https://jazzport-fn.de/event/schuppich-3-aut/
LOCATION:Werkstatt @Kulturhaus Caserne\, Fallenbrunnen 17\, Friedrichshafen\, Baden Württemberg\, 88045\, Germany
CATEGORIES:Jazz am Donnerstag
ATTACH;FMTTYPE=image/jpeg:https://jazzport-fn.de/wp-content/uploads/2025/07/26-2-12_Schwaller-Schuppich-4-scaled.jpg
ORGANIZER;CN="JazzPort Friedrichshafen e. V.":MAILTO:mail@jazzport-fn.de
END:VEVENT
END:VCALENDAR