BEGIN:VCALENDAR
VERSION:2.0
PRODID:-//JazzPort-Friedrichshafen e. V. - ECPv6.15.20//NONSGML v1.0//EN
CALSCALE:GREGORIAN
METHOD:PUBLISH
X-WR-CALNAME:JazzPort-Friedrichshafen e. V.
X-ORIGINAL-URL:https://jazzport-fn.de
X-WR-CALDESC:Veranstaltungen für JazzPort-Friedrichshafen e. V.
REFRESH-INTERVAL;VALUE=DURATION:PT1H
X-Robots-Tag:noindex
X-PUBLISHED-TTL:PT1H
BEGIN:VTIMEZONE
TZID:UTC
BEGIN:STANDARD
TZOFFSETFROM:+0000
TZOFFSETTO:+0000
TZNAME:UTC
DTSTART:20250101T000000
END:STANDARD
END:VTIMEZONE
BEGIN:VEVENT
DTSTART;TZID=UTC:20260122T200000
DTEND;TZID=UTC:20260122T200000
DTSTAMP:20260422T115453
CREATED:20250703T195048Z
LAST-MODIFIED:20251021T163709Z
UID:2122-1769112000-1769112000@jazzport-fn.de
SUMMARY:The Cat’s Table
DESCRIPTION:Am groovigsten Tisch sitzen die besten Leute \nAls Katzentisch wird ja der schlechteste Platz im Raum bezeichnet\, der am zugigen Eingang oder auf dem Weg zur vielfrequentierten Toilette liegt. Manchmal aber tanzen auf dem Tisch auch die Katzen\, oder wie Bandgründer und Saxophonist Tom Reinbrecht sagt: „Der „Cat’s Table“ ist der Tisch\, der am weitesten vom Kapitänstisch entfernt ist. Aber dort sitzen auch die interessantesten Charaktere.“ Und dazu setzt man sich hier gerne. \nSoulfunk aus den 1980er-Jahren\, Groovejazz und Brasil-Electro-Einflüsse tanzen auf dem Katzentisch in einem ganz eigenen Sound. Titel wie „Superfunktural“ oder „Supertramp Traces“ setzen Kopfkino und Füße in Gang. \nMit seiner exzellent besetzten Band\, der ehemaligen Rhythm Section von Klaus Doldingers Jazzrockband Passport\, hüpft Tom Reinbrecht über Genre-Grenzen hinweg\, zeigt den Rock‘n‘ Roll im Jazz und den Jazz im Rock‘n‘ Roll und somit direkt ins Zentrum des Geschehens am Captain’s Table. \nWas andere schreiben:\n…ein wahrer Phrasierungsmagier und Virtuose der Feinrhythmik\, einer der virtuosesten Saxophonisten weit und breit\, vor allem ein fast schon europaweit kaum erreichter Meister des souligen Tons.\n– Oliver Hochkeppel\, Süddeutsche Zeitung \nLine Up:\nTom Reinbrecht: Saxophone\nJan Eschke: Keyboards\nPatrick Scales: E-Bass\nChristian Lettner: Schlagzeug \n \n 
URL:https://jazzport-fn.de/event/the-cats-table/
LOCATION:Werkstatt @Kulturhaus Caserne\, Fallenbrunnen 17\, Friedrichshafen\, Baden Württemberg\, 88045\, Germany
CATEGORIES:Jazz am Donnerstag
ATTACH;FMTTYPE=image/jpeg:https://jazzport-fn.de/wp-content/uploads/2025/07/26-1-22_The-Cats-Table_c-christoph-bombart.jpeg
ORGANIZER;CN="JazzPort Friedrichshafen e. V.":MAILTO:mail@jazzport-fn.de
END:VEVENT
END:VCALENDAR